BEGIN:VCALENDAR
VERSION:2.0
PRODID:spatie/icalendar-generator
DESCRIPTION:Events from Desert Artists League
X-WR-CALDESC:Events from Desert Artists League
REFRESH-INTERVAL;VALUE=DURATION:PT1440M
X-PUBLISHED-TTL:PT1440M
BEGIN:VTIMEZONE
TZID:America/Los_Angeles
BEGIN:STANDARD
DTSTART:20251102T020000Z
TZOFFSETFROM:-0700
TZOFFSETTO:-0800
END:STANDARD
BEGIN:DAYLIGHT
DTSTART:20260308T020000Z
TZOFFSETFROM:-0800
TZOFFSETTO:-0700
END:DAYLIGHT
END:VTIMEZONE
BEGIN:VTIMEZONE
TZID:UTC
BEGIN:STANDARD
DTSTART:20250727T155709Z
TZOFFSETFROM:+0000
TZOFFSETTO:+0000
END:STANDARD
END:VTIMEZONE
BEGIN:VEVENT
UID:1659-28
DTSTAMP:20260423T155709Z
SUMMARY:General Meeting
LOCATION:
ORGANIZER;CN=ridgecrestartists:MAILTO:ridgecrestartists@gmail.com
RRULE:FREQ=MONTHLY;BYDAY=1MO;UNTIL=20260505T000000Z
DTSTART;TZID=America/Los_Angeles:20260406T183000
DTEND;TZID=America/Los_Angeles:20260406T213000
X-ALT-DESC;FMTTYPE=TEXT/HTML:
CATEGORIES:Board
URL;VALUE=URI:https://desertartistsleague.org/mc-events/general-meeting-11/
 ?mc_id=1659
METHOD:PUBLISH
END:VEVENT
END:VCALENDAR